BEGIN:VCALENDAR
VERSION:2.0
METHOD:PUBLISH
CALSCALE:GREGORIAN
PRODID:-//WordPress - MECv6.4.2//EN
X-ORIGINAL-URL:https://www.hartvanputten.nl/
X-WR-CALNAME:Inloophuis | &#039;t Hart van Putten
X-WR-CALDESC:En nog een WordPress site
REFRESH-INTERVAL;VALUE=DURATION:PT1H
X-PUBLISHED-TTL:PT1H
X-MS-OLK-FORCEINSPECTOROPEN:TRUE
BEGIN:VEVENT
CLASS:PUBLIC
DTSTART;TZID=UTC:20241007T000000
DTEND;TZID=UTC:20241014T000000
DTSTAMP:20241002T000000
UID:MEC-8b0dc65f996f98fd178a9defd0efa077@hartvanputten.nl
CREATED:20241002
LAST-MODIFIED:20241002
PRIORITY:5
TRANSP:OPAQUE
SUMMARY:Week tegen Eenzaamheid
DESCRIPTION:\nIn de Week tegen Eenzaamheid hebben we iets extra lekkers bij de koffie en thee tijdens onze open huis momenten:– Woensdag 9 oktober van 10:00 tot 12:00– Vrijdag 11 oktober van 10:00 tot 12:00– Zondag 13 oktober van 14:30 tot 16:30Kom gezellig langs!\n\n\n\n\n\n\n\n\n\n\n\n\n
URL:https://www.hartvanputten.nl/events/week-tegen-eenzaamheid/
END:VEVENT
BEGIN:VEVENT
CLASS:PUBLIC
DTSTART;TZID=UTC:20240615T100000
DTEND;TZID=UTC:20240615T115500
DTSTAMP:20240420T182200
UID:MEC-93fb9d4b16aa750c7475b6d601c35c2c@hartvanputten.nl
CREATED:20240420
LAST-MODIFIED:20240614
PRIORITY:5
TRANSP:OPAQUE
SUMMARY:Koekjes workshop
DESCRIPTION:\nTijdens de inloop van zaterdag 15 juni a.s. kunnen we van 10 tot 12 uur samen koeken bakken.\n\n\n\n\n
URL:https://www.hartvanputten.nl/events/taart-koek-bakken/
ATTACH;FMTTYPE=image/png:https://www.hartvanputten.nl/wp-content/uploads/2024/04/Koekjes-workshop.png
END:VEVENT
BEGIN:VEVENT
CLASS:PUBLIC
DTSTART;TZID=UTC:20240501T000000
DTEND;TZID=UTC:20240502T000000
DTSTAMP:20240325T000000
UID:MEC-dfd7468ac613286cdbb40872c8ef3b06@hartvanputten.nl
CREATED:20240325
LAST-MODIFIED:20240325
PRIORITY:5
TRANSP:OPAQUE
SUMMARY:Kook club
DESCRIPTION:
URL:https://www.hartvanputten.nl/events/kook-club/
END:VEVENT
BEGIN:VEVENT
CLASS:PUBLIC
DTSTART;TZID=UTC:20240427T000000
DTEND;TZID=UTC:20240428T000000
DTSTAMP:20240325T000000
UID:MEC-50905d7b2216bfeccb5b41016357176b@hartvanputten.nl
CREATED:20240325
LAST-MODIFIED:20240325
PRIORITY:5
TRANSP:OPAQUE
SUMMARY:Gesloten
DESCRIPTION:\nHet inloophuis is gesloten op Koningsdag (27 april). Er is dus ook geen RepairCafe.\n
URL:https://www.hartvanputten.nl/events/gesloten/
END:VEVENT
BEGIN:VEVENT
CLASS:PUBLIC
DTSTART;TZID=UTC:20231121T100000
DTEND;TZID=UTC:20231121T120000
DTSTAMP:20231117T182800
UID:MEC-286674e3082feb7e5afb92777e48821f@hartvanputten.nl
RRULE:FREQ=MONTHLY;UNTIL=20240630T120000Z;WKST=MO;BYDAY=1TU
CREATED:20231117
LAST-MODIFIED:20231117
PRIORITY:5
TRANSP:OPAQUE
SUMMARY:Ixta Noa
DESCRIPTION:\nIxta Noa wil een omgeving creëren waarin mensen in staat zijn om elkaar te inspireren tot eigen verandering door het delen van hun ervaringen. Zodat ieder mens kan zijn wie hij of zij is. Bij Ixta Noa werken mensen die de onbalans bij anderen herkennen en erkennen, omdat ze daar zelf ook last van hebben gehad. Vanuit onze ervaring helpen wij mensen hun balans terug te vinden. Ixta Noa is overtuigd van de waarde van ‘halen, brengen en doorgeven’. We willen daarom ook anderen leren hoe zij er kunnen zijn voor de ander en hoe zij hun ervaring kunnen inzetten en daarmee anderen inspireren tot verandering, zodat zij zelf hun balans (terug) vinden. De kracht van Ixta Noa, met de inzet van ervaringsdeskundigheid, zit hierbij met name in het persoonlijk herstel.\n
URL:https://www.hartvanputten.nl/events/ixta-noa-2/
END:VEVENT
BEGIN:VEVENT
CLASS:PUBLIC
DTSTART;TZID=UTC:20231128T100000
DTEND;TZID=UTC:20231128T120000
DTSTAMP:20231114T123100
UID:MEC-dc87c13749315c7217cdc4ac692e704c@hartvanputten.nl
RRULE:FREQ=MONTHLY;UNTIL=20240630T120000Z;WKST=MO;BYDAY=2TU
CREATED:20231114
LAST-MODIFIED:20231117
PRIORITY:5
TRANSP:OPAQUE
SUMMARY:Geheugensteunpunt Putten
DESCRIPTION:\nGeheugensteunpunt Putten is een laagdrempelige ontmoetingsplek waar iedereen die te maken heeft met geheugenklachten en/of beginnende dementie welkom is. Het is een plek waar mensen gewaardeerd worden om wie ze zijn en waar iedereen meetelt. U kunt tijdens de openingstijden binnenlopen voor informatie en voorlichting wanneer u daar behoefte aan heeft.\n\n\n\nHet Geheugensteunpunt:\n\n\n\n\nBiedt informatie over geheugenproblemen en dementie en over de mogelijke hulp en ondersteuning in Putten\n\n\n\nBiedt advies en een luisterend oor bij vragen of twijfels over het geheugen\n\n\n\nIs een ontmoetingsplek waar u en uw naasten welkom zijn voor ontmoeting en activiteiten, op basis van uw eigen inbreng en behoeften\n\n
URL:https://www.hartvanputten.nl/events/geheugensteunpunt-putten-2/
END:VEVENT
BEGIN:VEVENT
CLASS:PUBLIC
DTSTART;TZID=UTC:20231114T100000
DTEND;TZID=UTC:20231114T120000
DTSTAMP:20231114T122600
UID:MEC-84438b7aae55a0638073ef798e50b4ef@hartvanputten.nl
CREATED:20231114
LAST-MODIFIED:20231114
PRIORITY:5
TRANSP:OPAQUE
SUMMARY:Geheugensteunpunt Putten
DESCRIPTION:\nGeheugensteunpunt Putten is een laagdrempelige ontmoetingsplek waar iedereen die te maken heeft met geheugenklachten en/of beginnende dementie welkom is. Het is een plek waar mensen gewaardeerd worden om wie ze zijn en waar iedereen meetelt. U kunt tijdens de openingstijden binnenlopen voor informatie en voorlichting wanneer u daar behoefte aan heeft.\n\n\n\nHet Geheugensteunpunt:\n\n\n\n\nBiedt informatie over geheugenproblemen en dementie en over de mogelijke hulp en ondersteuning in Putten\n\n\n\nBiedt advies en een luisterend oor bij vragen of twijfels over het geheugen\n\n\n\nIs een ontmoetingsplek waar u en uw naasten welkom zijn voor ontmoeting en activiteiten, op basis van uw eigen inbreng en behoeften\n\n
URL:https://www.hartvanputten.nl/events/geheugensteunpunt-putten/
END:VEVENT
BEGIN:VEVENT
CLASS:PUBLIC
DTSTART;TZID=UTC:20231111T143000
DTEND;TZID=UTC:20231111T163000
DTSTAMP:20231101T201300
UID:MEC-459a4ddcb586f24efd9395aa7662bc7c@hartvanputten.nl
CREATED:20231101
LAST-MODIFIED:20231101
PRIORITY:5
TRANSP:OPAQUE
SUMMARY:Kerstworkshop
DESCRIPTION:\nKom gezellig knutselen op zaterdagmiddag van 14.30 – 16.30 uur.Kosten zijn €7,50 inclusief materialen, koffie/thee en wat lekkers.\n\n\n\nWel even vooraf opgeven.\n\n\n\n\n
URL:https://www.hartvanputten.nl/events/kerstworkshop/
END:VEVENT
BEGIN:VEVENT
CLASS:PUBLIC
DTSTART;TZID=UTC:20231007T100000
DTEND;TZID=UTC:20231007T000000
DTSTAMP:20231002T202500
UID:MEC-70222949cc0db89ab32c9969754d4758@hartvanputten.nl
CREATED:20231002
LAST-MODIFIED:20231002
PRIORITY:5
TRANSP:OPAQUE
SUMMARY:Koffiekan
DESCRIPTION:\nZaterdag 7 oktober a.s. komt Dhr. Jan van Ruitenbeek, oud- notaris koffie schenken. \n
URL:https://www.hartvanputten.nl/events/koffiekan-2/
END:VEVENT
BEGIN:VEVENT
CLASS:PUBLIC
DTSTART;TZID=UTC:20231011T000000
DTEND;TZID=UTC:20231012T000000
DTSTAMP:20231002T000000
UID:MEC-b51a15f382ac914391a58850ab343b00@hartvanputten.nl
CREATED:20231002
LAST-MODIFIED:20231003
PRIORITY:5
TRANSP:OPAQUE
SUMMARY:Oliebol eten in het inloophuis
DESCRIPTION:\nKom gezellig een oliebol eten in het inloophuis tijdens de Ossenmarkt. Het inloophuis is geopend van 10.00-12.00 uur\n\n\n\n\n
URL:https://www.hartvanputten.nl/events/ossenmarkt-oliebollen/
END:VEVENT
BEGIN:VEVENT
CLASS:PUBLIC
DTSTART;TZID=UTC:20230920T000000
DTEND;TZID=UTC:20230920T000000
DTSTAMP:20230914T190200
UID:MEC-7eb3c8be3d411e8ebfab08eba5f49632@hartvanputten.nl
CREATED:20230914
LAST-MODIFIED:20230914
PRIORITY:5
TRANSP:OPAQUE
SUMMARY:Pannenkoekenlunch
DESCRIPTION:\nIedereen is van harte welkom om op woensdag 20 september binnen te stappen en aan te schuiven. Een bijdrage om de kosten te dekken is vrijwillig en zeker niet verplicht. Om 12.00 uur staat de tafel gedekt. \n\n\n\n\n
URL:https://www.hartvanputten.nl/events/pannenkoekenlunch/
END:VEVENT
BEGIN:VEVENT
CLASS:PUBLIC
DTSTART;TZID=UTC:20230906T170000
DTEND;TZID=UTC:20230906T200000
DTSTAMP:20230715T113700
UID:MEC-17326d10d511828f6b34fa6d751739e2@hartvanputten.nl
CREATED:20230715
LAST-MODIFIED:20230715
PRIORITY:5
TRANSP:OPAQUE
SUMMARY:Koken met andere culturen
DESCRIPTION:
URL:https://www.hartvanputten.nl/events/koken-met-andere-culturen/
END:VEVENT
BEGIN:VEVENT
CLASS:PUBLIC
DTSTART;TZID=UTC:19700101T000000
DTEND;TZID=UTC:20230829T120000
DTSTAMP:20230715T112900
UID:MEC-68a83eeb494a308fe5295da69428a507@hartvanputten.nl
CREATED:20230715
LAST-MODIFIED:20230715
PRIORITY:5
TRANSP:OPAQUE
SUMMARY:Jeugdpunt koken
DESCRIPTION:
URL:https://www.hartvanputten.nl/events/jeugdpunt-koken/
END:VEVENT
BEGIN:VEVENT
CLASS:PUBLIC
DTSTART;TZID=UTC:20230401T140000
DTEND;TZID=UTC:20230401T170000
DTSTAMP:20230313T180500
UID:MEC-eb86d510361fc23b59f18c1bc9802cc6@hartvanputten.nl
CREATED:20230313
LAST-MODIFIED:20230314
PRIORITY:5
TRANSP:OPAQUE
SUMMARY:Open atelier
DESCRIPTION:Zaterdag 1 april is er een open atelier. Graag vooraf inschrijven.\n
URL:https://www.hartvanputten.nl/events/open-huis-416-979-657/
ATTACH;FMTTYPE=image/jpeg:https://www.hartvanputten.nl/wp-content/uploads/2023/03/received_759004195843698.jpeg
END:VEVENT
BEGIN:VEVENT
CLASS:PUBLIC
DTSTART;TZID=UTC:20220319T140000
DTEND;TZID=UTC:20220319T160000
DTSTAMP:20230313T134100
UID:MEC-43cca4b3de2097b9558efefd0ecc3588@hartvanputten.nl
RRULE:FREQ=MONTHLY;UNTIL=20230728T160000Z;WKST=MO;BYDAY=-1SA
CREATED:20230313
LAST-MODIFIED:20230715
PRIORITY:5
TRANSP:OPAQUE
SUMMARY:Open atelier
DESCRIPTION:Kom gezellig knutselen tijdens de inloop(tegen een geringe betaling). Of wanneer u liever alleen een kopje koffie/thee wilt drinken is dat ook mogelijk.\n\n\nNiet op 29 april en 27 mei 2023\n
URL:https://www.hartvanputten.nl/events/open-huis-416-979/
ATTACH;FMTTYPE=image/jpeg:https://www.hartvanputten.nl/wp-content/uploads/2023/03/WhatsApp-Image-2023-03-13-at-11.33.35.jpeg
END:VEVENT
BEGIN:VEVENT
CLASS:PUBLIC
DTSTART;TZID=UTC:20260424T123000
DTEND;TZID=UTC:20260424T123000
DTSTAMP:20230313T132800
UID:MEC-1d72310edc006dadf2190caad5802983@hartvanputten.nl
RRULE:FREQ=MONTHLY;WKST=MO;BYDAY=1FR
CREATED:20230313
LAST-MODIFIED:20260414
PRIORITY:5
TRANSP:OPAQUE
SUMMARY:Voedselbank
DESCRIPTION:
URL:https://www.hartvanputten.nl/events/open-huis-416-263-858/
END:VEVENT
BEGIN:VEVENT
CLASS:PUBLIC
DTSTART;TZID=UTC:20260425T100000
DTEND;TZID=UTC:20260425T120000
DTSTAMP:20230313T132500
UID:MEC-a4d2f0d23dcc84ce983ff9157f8b7f88@hartvanputten.nl
RRULE:FREQ=MONTHLY;WKST=MO;BYDAY=2SA
CREATED:20230313
LAST-MODIFIED:20250113
PRIORITY:5
TRANSP:OPAQUE
SUMMARY:RepairCafe
DESCRIPTION:Elke tweede en laatste zaterdag van de maand is het RepairCafe van 10:00 tot 12:00 uur. Geef uw oude apparaten een nieuwe kans.\n
URL:https://www.hartvanputten.nl/events/open-huis-416-263/
ATTACH;FMTTYPE=image/png:https://www.hartvanputten.nl/wp-content/uploads/2024/05/repaircafe-e1715976047593.png
END:VEVENT
BEGIN:VEVENT
CLASS:PUBLIC
DTSTART;TZID=UTC:20260426T143000
DTEND;TZID=UTC:20260426T163000
DTSTAMP:20230313T131300
UID:MEC-33ceb07bf4eeb3da587e268d663aba1a@hartvanputten.nl
RRULE:FREQ=MONTHLY;WKST=MO;BYDAY=1SU
CREATED:20230313
LAST-MODIFIED:20230313
PRIORITY:5
TRANSP:OPAQUE
SUMMARY:Open huis
DESCRIPTION:Kom gezellig een kopje koffie of thee drinken.\n
URL:https://www.hartvanputten.nl/events/open-huis-416/
ATTACH;FMTTYPE=image/jpeg:https://www.hartvanputten.nl/wp-content/uploads/2023/03/20221230_111320-scaled.jpg
END:VEVENT
BEGIN:VEVENT
CLASS:PUBLIC
DTSTART;TZID=UTC:20260503T163000
DTEND;TZID=UTC:20260503T180000
DTSTAMP:20230313T124700
UID:MEC-a7d8ae4569120b5bec12e7b6e9648b86@hartvanputten.nl
RRULE:FREQ=MONTHLY;WKST=MO;BYDAY=1SU
CREATED:20230313
LAST-MODIFIED:20250602
PRIORITY:5
TRANSP:OPAQUE
SUMMARY:Samen eten
DESCRIPTION:\nElke 1e én 3e zondagmiddag aansluitend aan de normale inloop is er gelegenheid om samen te eten. Tussen 16.30 en 18.00 uur wordt er een 3 gangen menu geserveerd. De kosten hiervoor zijn € 6,00 p.p vanaf 1 januari 2025. Opgave hiervoor kan tot en met vrijdag 11.00 uur. Dit kan tijdens de inloop of via de mail coordinatoren@hartvanputten.nl .\n\n\n\nOok als u niet mee eet, bent u toch welkom vanaf 14:30 voor een kopje koffie of thee.\n\n\n\n\n
URL:https://www.hartvanputten.nl/events/open-huis-816/
ATTACH;FMTTYPE=image/png:https://www.hartvanputten.nl/wp-content/uploads/2023/03/Screenshot-2023-03-13-at-11.38.26.png
END:VEVENT
BEGIN:VEVENT
CLASS:PUBLIC
DTSTART;TZID=UTC:20260502T100000
DTEND;TZID=UTC:20260502T120000
DTSTAMP:20230313T094700
UID:MEC-708f3cf8100d5e71834b1db77dfa15d6@hartvanputten.nl
RRULE:FREQ=MONTHLY;WKST=MO;BYDAY=1SA
CREATED:20230313
LAST-MODIFIED:20240620
PRIORITY:5
TRANSP:OPAQUE
SUMMARY:Koffiekan
DESCRIPTION:Iedere eerste zaterdag tussen 10 en 12 uur wordt er koffie geschonken door een bekende Puttenaar. De bekende Puttenaar vertelt elke keer iets unieks over bijvoorbeeld (vrijwilligers)werk, een bijzondere belevenis of iets wat hij/zij bijdraagt aan het dorp.\nIedereen is van harte welkom.\nKunt u niet zelf naar het Inloophuis komen, dan kunt u contact opnemen met Welzijn Putten. Dit kan op werkdagen tussen 9:00 en 11:00 op het nummer: 0341 74 00 51 ( tel:+31341357078 ) voor vervoer naar ’t Hart van Putten.\n
URL:https://www.hartvanputten.nl/events/koffiekan/
END:VEVENT
BEGIN:VEVENT
CLASS:PUBLIC
DTSTART;TZID=UTC:20230325T140000
DTEND;TZID=UTC:20230325T160000
DTSTAMP:20220830T180900
UID:MEC-53c04118df112c13a8c34b38343b9c10@hartvanputten.nl
CREATED:20220830
LAST-MODIFIED:20230422
PRIORITY:5
TRANSP:OPAQUE
SUMMARY:Open atelier
DESCRIPTION:Lijkt het je leuk om op zaterdagmiddag creatief bezig te zijn? Meld je dan aan en geef je voorkeur voor een werkstuk door. Dat kan bij het inloophuis of via: openatelierinloophuis@gmail.com\nDe kosten voor deelname bedragen €3,00.\n
URL:https://www.hartvanputten.nl/events/open-atelier-in-het-inloophuis-niet-op-29-april-en-27-mei-2023/
ATTACH;FMTTYPE=image/png:https://www.hartvanputten.nl/wp-content/uploads/2022/08/Knipsel-25-mrt.png
END:VEVENT
BEGIN:VEVENT
CLASS:PUBLIC
DTSTART;TZID=UTC:20260422T100000
DTEND;TZID=UTC:20260422T120000
DTSTAMP:20220409T101200
UID:MEC-bf62768ca46b6c3b5bea9515d1a1fc45@hartvanputten.nl
RRULE:FREQ=MONTHLY;WKST=MO;BYDAY=1WE
CREATED:20220409
LAST-MODIFIED:20230313
PRIORITY:5
TRANSP:OPAQUE
SUMMARY:Open huis
DESCRIPTION:Kom gezellig een kopje koffie of thee drinken.\n
URL:https://www.hartvanputten.nl/events/open-huis/
ATTACH;FMTTYPE=image/jpeg:https://www.hartvanputten.nl/wp-content/uploads/2023/03/20221230_111320-scaled.jpg
END:VEVENT
END:VCALENDAR
